BEGIN:VCALENDAR
VERSION:2.0
PRODID:-//Ivonne Zucco - ECPv6.15.17//NONSGML v1.0//EN
CALSCALE:GREGORIAN
METHOD:PUBLISH
X-WR-CALNAME:Ivonne Zucco
X-ORIGINAL-URL:https://ivonnezucco.com/es
X-WR-CALDESC:Eventos para Ivonne Zucco
REFRESH-INTERVAL;VALUE=DURATION:PT1H
X-Robots-Tag:noindex
X-PUBLISHED-TTL:PT1H
BEGIN:VTIMEZONE
TZID:America/New_York
BEGIN:DAYLIGHT
TZOFFSETFROM:-0500
TZOFFSETTO:-0400
TZNAME:EDT
DTSTART:20250309T070000
END:DAYLIGHT
BEGIN:STANDARD
TZOFFSETFROM:-0400
TZOFFSETTO:-0500
TZNAME:EST
DTSTART:20251102T060000
END:STANDARD
BEGIN:DAYLIGHT
TZOFFSETFROM:-0500
TZOFFSETTO:-0400
TZNAME:EDT
DTSTART:20260308T070000
END:DAYLIGHT
BEGIN:STANDARD
TZOFFSETFROM:-0400
TZOFFSETTO:-0500
TZNAME:EST
DTSTART:20261101T060000
END:STANDARD
BEGIN:DAYLIGHT
TZOFFSETFROM:-0500
TZOFFSETTO:-0400
TZNAME:EDT
DTSTART:20270314T070000
END:DAYLIGHT
BEGIN:STANDARD
TZOFFSETFROM:-0400
TZOFFSETTO:-0500
TZNAME:EST
DTSTART:20271107T060000
END:STANDARD
END:VTIMEZONE
BEGIN:VEVENT
DTSTART;TZID=America/New_York:20260608T180000
DTEND;TZID=America/New_York:20260608T200000
DTSTAMP:20260421T200535
CREATED:20260407T183800Z
LAST-MODIFIED:20260407T184351Z
UID:816-1780941600-1780948800@ivonnezucco.com
SUMMARY:Gear up for growth. Take your business to the next level. East Hartford
DESCRIPTION:You’ve jump-started your business — now it’s time to shift into a higher gear. Gear Up for Growth is a hands-on\, in-person workshop series designed for graduates of My Business Jump Start and other early-stage entrepreneurs ready to strengthen their operations\, boost sales\, and improve financial performance. \nOver three dynamic sessions\, participants will learn practical strategies to refine daily management\, build a stronger brand presence\, and prepare for smart financing opportunities. \nLeave ready to lead with confidence\, drive your business forward\, and turn early success into lasting achievement. \nPresenter: Ivonne Zucco\, MBA\, PCC \nRegistration Link
URL:https://ivonnezucco.com/es/event/gear-up-for-growth-take-your-business-to-the-next-level-east-hartford/
LOCATION:SBDC at the Conn. Center for Advanced Technology (CCAT)\, 222 Pitkin St.\, East Hartford\, CT\, 06108\, United States
CATEGORIES:Small Business Capacity Building
ATTACH;FMTTYPE=image/png:https://ivonnezucco.com/wp-content/uploads/2026/01/Gear-up-for-Growth-image.png
END:VEVENT
END:VCALENDAR