BEGIN:VCALENDAR
VERSION:2.0
PRODID:-//Ivonne Zucco - ECPv6.15.17//NONSGML v1.0//EN
CALSCALE:GREGORIAN
METHOD:PUBLISH
X-ORIGINAL-URL:https://ivonnezucco.com
X-WR-CALDESC:Events for Ivonne Zucco
REFRESH-INTERVAL;VALUE=DURATION:PT1H
X-Robots-Tag:noindex
X-PUBLISHED-TTL:PT1H
BEGIN:VTIMEZONE
TZID:America/New_York
BEGIN:DAYLIGHT
TZOFFSETFROM:-0500
TZOFFSETTO:-0400
TZNAME:EDT
DTSTART:20250309T070000
END:DAYLIGHT
BEGIN:STANDARD
TZOFFSETFROM:-0400
TZOFFSETTO:-0500
TZNAME:EST
DTSTART:20251102T060000
END:STANDARD
BEGIN:DAYLIGHT
TZOFFSETFROM:-0500
TZOFFSETTO:-0400
TZNAME:EDT
DTSTART:20260308T070000
END:DAYLIGHT
BEGIN:STANDARD
TZOFFSETFROM:-0400
TZOFFSETTO:-0500
TZNAME:EST
DTSTART:20261101T060000
END:STANDARD
BEGIN:DAYLIGHT
TZOFFSETFROM:-0500
TZOFFSETTO:-0400
TZNAME:EDT
DTSTART:20270314T070000
END:DAYLIGHT
BEGIN:STANDARD
TZOFFSETFROM:-0400
TZOFFSETTO:-0500
TZNAME:EST
DTSTART:20271107T060000
END:STANDARD
END:VTIMEZONE
BEGIN:VEVENT
DTSTART;VALUE=DATE:20260415
DTEND;VALUE=DATE:20260416
DTSTAMP:20260421T120248
CREATED:20260408T183500Z
LAST-MODIFIED:20260408T183649Z
UID:836-1776211200-1776297599@ivonnezucco.com
SUMMARY:Networking and Elevator Pitch for High School Students
DESCRIPTION:Networking is a crucial aspect for high school students as it lays the foundation for future success. Beyond academic achievements\, building connections with peers\, teachers\, and professionals opens doors to valuable opportunities. Networking fosters the exchange of ideas\, knowledge\, and support\, enabling students to explore diverse career paths and gain insights into various industries. Establishing a robust network early on can lead to mentorship\, internships\, and a broader understanding of potential career trajectories. Moreover\, these connections often prove instrumental in navigating the transition from high school to college and beyond\, offering guidance and a supportive community. This workshop also empowers students to craft a compelling elevator pitch.								\n				\n					\n		\n					\n		\n				\n						\n					\n			\n						\n				\n					This is a private event\, sponsored by the AVID Success program through The Greenwich Alliance for Education.
URL:https://ivonnezucco.com/event/networking-and-elevator-pitch-for-high-school-students-2/
LOCATION:High School In Fairfield County
CATEGORIES:Youth Empowerment
ATTACH;FMTTYPE=image/png:https://ivonnezucco.com/wp-content/uploads/2026/04/PASO-2.png
END:VEVENT
BEGIN:VEVENT
DTSTART;TZID=America/New_York:20260415T180000
DTEND;TZID=America/New_York:20260415T200000
DTSTAMP:20260421T120248
CREATED:20260407T180118Z
LAST-MODIFIED:20260407T181208Z
UID:791-1776276000-1776283200@ivonnezucco.com
SUMMARY:Gear up for growth. Take your business to the next level. New Haven.
DESCRIPTION:Networking is a crucial aspect for high school students as it lays the foundation for future success. Beyond academic achievements\, building connections with peers\, teachers\, and professionals opens doors to valuable opportunities. Networking fosters the exchange of ideas\, knowledge\, and support\, enabling students to explore diverse career paths and gain insights into various industries. Establishing a robust network early on can lead to mentorship\, internships\, and a broader understanding of potential career trajectories. Moreover\, these connections often prove instrumental in navigating the transition from high school to college and beyond\, offering guidance and a supportive community. This workshop also empowers students to craft a compelling elevator pitch.								\n				\n					\n		\n					\n		\n				\n						\n					\n			\n						\n				\n					This is a private event\, sponsored by the AVID Success program through The Greenwich Alliance for Education.
URL:https://ivonnezucco.com/event/gear-up-for-growth-new-haven/
LOCATION:CT State Community College – Gateway\, 20 Church St\, New Haven\, Connecticut\, 06510
CATEGORIES:Small Business Capacity Building
ATTACH;FMTTYPE=image/png:https://ivonnezucco.com/wp-content/uploads/2026/01/Gear-up-for-Growth-image.png
END:VEVENT
END:VCALENDAR