BEGIN:VCALENDAR
VERSION:2.0
PRODID:-//Ivonne Zucco - ECPv6.15.17//NONSGML v1.0//EN
CALSCALE:GREGORIAN
METHOD:PUBLISH
X-WR-CALNAME:Ivonne Zucco
X-ORIGINAL-URL:https://ivonnezucco.com
X-WR-CALDESC:Events for Ivonne Zucco
REFRESH-INTERVAL;VALUE=DURATION:PT1H
X-Robots-Tag:noindex
X-PUBLISHED-TTL:PT1H
BEGIN:VTIMEZONE
TZID:America/New_York
BEGIN:DAYLIGHT
TZOFFSETFROM:-0500
TZOFFSETTO:-0400
TZNAME:EDT
DTSTART:20220313T070000
END:DAYLIGHT
BEGIN:STANDARD
TZOFFSETFROM:-0400
TZOFFSETTO:-0500
TZNAME:EST
DTSTART:20221106T060000
END:STANDARD
BEGIN:DAYLIGHT
TZOFFSETFROM:-0500
TZOFFSETTO:-0400
TZNAME:EDT
DTSTART:20230312T070000
END:DAYLIGHT
BEGIN:STANDARD
TZOFFSETFROM:-0400
TZOFFSETTO:-0500
TZNAME:EST
DTSTART:20231105T060000
END:STANDARD
BEGIN:DAYLIGHT
TZOFFSETFROM:-0500
TZOFFSETTO:-0400
TZNAME:EDT
DTSTART:20240310T070000
END:DAYLIGHT
BEGIN:STANDARD
TZOFFSETFROM:-0400
TZOFFSETTO:-0500
TZNAME:EST
DTSTART:20241103T060000
END:STANDARD
BEGIN:DAYLIGHT
TZOFFSETFROM:-0500
TZOFFSETTO:-0400
TZNAME:EDT
DTSTART:20250309T070000
END:DAYLIGHT
BEGIN:STANDARD
TZOFFSETFROM:-0400
TZOFFSETTO:-0500
TZNAME:EST
DTSTART:20251102T060000
END:STANDARD
END:VTIMEZONE
BEGIN:VEVENT
DTSTART;TZID=America/New_York:20240130T120000
DTEND;TZID=America/New_York:20240130T130000
DTSTAMP:20260421T203215
CREATED:20240102T210205Z
LAST-MODIFIED:20240102T213126Z
UID:411-1706616000-1706619600@ivonnezucco.com
SUMMARY:Managing stress and setting work boundaries for small business owners.
DESCRIPTION:Networking is a crucial aspect for high school students as it lays the foundation for future success. Beyond academic achievements\, building connections with peers\, teachers\, and professionals opens doors to valuable opportunities. Networking fosters the exchange of ideas\, knowledge\, and support\, enabling students to explore diverse career paths and gain insights into various industries. Establishing a robust network early on can lead to mentorship\, internships\, and a broader understanding of potential career trajectories. Moreover\, these connections often prove instrumental in navigating the transition from high school to college and beyond\, offering guidance and a supportive community. This workshop also empowers students to craft a compelling elevator pitch.								\n				\n					\n		\n					\n		\n				\n						\n					\n			\n						\n				\n					This event\, sponsored by the AVID program at The Greenwich Alliance for Education\, is PRIVATE.
URL:https://ivonnezucco.com/event/managing-stress-and-setting-work-boundaries-for-small-business-owners/
LOCATION:Online Webinar
CATEGORIES:Small Business Capacity Building
ATTACH;FMTTYPE=image/jpeg:https://ivonnezucco.com/wp-content/uploads/2024/01/Settin-boundaries.jpg
END:VEVENT
BEGIN:VEVENT
DTSTART;VALUE=DATE:20240126
DTEND;VALUE=DATE:20240127
DTSTAMP:20260421T203215
CREATED:20240105T190846Z
LAST-MODIFIED:20240105T191349Z
UID:536-1706227200-1706313599@ivonnezucco.com
SUMMARY:Networking and Elevator Pitch for High School Students
DESCRIPTION:Networking is a crucial aspect for high school students as it lays the foundation for future success. Beyond academic achievements\, building connections with peers\, teachers\, and professionals opens doors to valuable opportunities. Networking fosters the exchange of ideas\, knowledge\, and support\, enabling students to explore diverse career paths and gain insights into various industries. Establishing a robust network early on can lead to mentorship\, internships\, and a broader understanding of potential career trajectories. Moreover\, these connections often prove instrumental in navigating the transition from high school to college and beyond\, offering guidance and a supportive community. This workshop also empowers students to craft a compelling elevator pitch.								\n				\n					\n		\n					\n		\n				\n						\n					\n			\n						\n				\n					This event\, sponsored by the AVID program at The Greenwich Alliance for Education\, is PRIVATE.
URL:https://ivonnezucco.com/event/networking-for-high-school-students/
CATEGORIES:Youth Empowerment
ATTACH;FMTTYPE=image/jpeg:https://ivonnezucco.com/wp-content/uploads/2024/01/networking-for-HS.jpg
END:VEVENT
BEGIN:VEVENT
DTSTART;TZID=America/New_York:20240125T180000
DTEND;TZID=America/New_York:20240125T190000
DTSTAMP:20260421T203215
CREATED:20240105T183016Z
LAST-MODIFIED:20240105T184043Z
UID:515-1706205600-1706209200@ivonnezucco.com
SUMMARY:Employability Skills for Immigrants - Job Seach and Skills Assessment
DESCRIPTION:Networking is a crucial aspect for high school students as it lays the foundation for future success. Beyond academic achievements\, building connections with peers\, teachers\, and professionals opens doors to valuable opportunities. Networking fosters the exchange of ideas\, knowledge\, and support\, enabling students to explore diverse career paths and gain insights into various industries. Establishing a robust network early on can lead to mentorship\, internships\, and a broader understanding of potential career trajectories. Moreover\, these connections often prove instrumental in navigating the transition from high school to college and beyond\, offering guidance and a supportive community. This workshop also empowers students to craft a compelling elevator pitch.								\n				\n					\n		\n					\n		\n				\n						\n					\n			\n						\n				\n					This event\, sponsored by the AVID program at The Greenwich Alliance for Education\, is PRIVATE.
URL:https://ivonnezucco.com/event/employability-skills-for-immigrants-job-search-and-skills/
LOCATION:Building One Community\, 417 Shippan Ave.\, Stamford\, CT\, 06902\, United States
CATEGORIES:Professional Development
ATTACH;FMTTYPE=image/jpeg:https://ivonnezucco.com/wp-content/uploads/2024/01/cropped-for-website.jpg
END:VEVENT
BEGIN:VEVENT
DTSTART;TZID=America/New_York:20240123T123000
DTEND;TZID=America/New_York:20240123T140000
DTSTAMP:20260421T203215
CREATED:20240102T224844Z
LAST-MODIFIED:20240105T184305Z
UID:449-1706013000-1706018400@ivonnezucco.com
SUMMARY:Why Data Should be Your Best Friend - Nonprofit Capacity Series
DESCRIPTION:Networking is a crucial aspect for high school students as it lays the foundation for future success. Beyond academic achievements\, building connections with peers\, teachers\, and professionals opens doors to valuable opportunities. Networking fosters the exchange of ideas\, knowledge\, and support\, enabling students to explore diverse career paths and gain insights into various industries. Establishing a robust network early on can lead to mentorship\, internships\, and a broader understanding of potential career trajectories. Moreover\, these connections often prove instrumental in navigating the transition from high school to college and beyond\, offering guidance and a supportive community. This workshop also empowers students to craft a compelling elevator pitch.								\n				\n					\n		\n					\n		\n				\n						\n					\n			\n						\n				\n					This event\, sponsored by the AVID program at The Greenwich Alliance for Education\, is PRIVATE.
URL:https://ivonnezucco.com/event/why-data-should-be-your-best-friend/
LOCATION:Norwalk ReDevelopment\, 3 Belden Avenue\, Norwalk\, CT\, 06850\, United States
CATEGORIES:Non-Profit Capacity Building Workshops
ATTACH;FMTTYPE=image/jpeg:https://ivonnezucco.com/wp-content/uploads/2024/01/data.jpg
END:VEVENT
BEGIN:VEVENT
DTSTART;TZID=America/New_York:20240118T180000
DTEND;TZID=America/New_York:20240118T190000
DTSTAMP:20260421T203215
CREATED:20240105T174547Z
LAST-MODIFIED:20240105T184145Z
UID:499-1705600800-1705604400@ivonnezucco.com
SUMMARY:Employability Skills for Immigrants - What do I need to get a job in the U.S.?
DESCRIPTION:Networking is a crucial aspect for high school students as it lays the foundation for future success. Beyond academic achievements\, building connections with peers\, teachers\, and professionals opens doors to valuable opportunities. Networking fosters the exchange of ideas\, knowledge\, and support\, enabling students to explore diverse career paths and gain insights into various industries. Establishing a robust network early on can lead to mentorship\, internships\, and a broader understanding of potential career trajectories. Moreover\, these connections often prove instrumental in navigating the transition from high school to college and beyond\, offering guidance and a supportive community. This workshop also empowers students to craft a compelling elevator pitch.								\n				\n					\n		\n					\n		\n				\n						\n					\n			\n						\n				\n					This event\, sponsored by the AVID program at The Greenwich Alliance for Education\, is PRIVATE.
URL:https://ivonnezucco.com/event/employability-skills-for-immigrants-what-do-i-need-to-get-a-job-in-the-us/
LOCATION:Building One Community\, 417 Shippan Ave.\, Stamford\, CT\, 06902\, United States
CATEGORIES:Professional Development
ATTACH;FMTTYPE=image/jpeg:https://ivonnezucco.com/wp-content/uploads/2024/01/cropped-for-website.jpg
END:VEVENT
BEGIN:VEVENT
DTSTART;TZID=America/New_York:20240116T120000
DTEND;TZID=America/New_York:20240116T130000
DTSTAMP:20260421T203215
CREATED:20240102T202246Z
LAST-MODIFIED:20240102T225652Z
UID:387-1705406400-1705410000@ivonnezucco.com
SUMMARY:Transitioning from worker to small business owner. What you should know before you make the move.
DESCRIPTION:Networking is a crucial aspect for high school students as it lays the foundation for future success. Beyond academic achievements\, building connections with peers\, teachers\, and professionals opens doors to valuable opportunities. Networking fosters the exchange of ideas\, knowledge\, and support\, enabling students to explore diverse career paths and gain insights into various industries. Establishing a robust network early on can lead to mentorship\, internships\, and a broader understanding of potential career trajectories. Moreover\, these connections often prove instrumental in navigating the transition from high school to college and beyond\, offering guidance and a supportive community. This workshop also empowers students to craft a compelling elevator pitch.								\n				\n					\n		\n					\n		\n				\n						\n					\n			\n						\n				\n					This event\, sponsored by the AVID program at The Greenwich Alliance for Education\, is PRIVATE.
URL:https://ivonnezucco.com/event/transitioning-from-worker-to-small-business-owner-what-you-should-know-before-you-make-the-move/
LOCATION:Online Webinar
CATEGORIES:Small Business Capacity Building
ATTACH;FMTTYPE=image/jpeg:https://ivonnezucco.com/wp-content/uploads/2024/01/small-business-owner-1.jpg
END:VEVENT
BEGIN:VEVENT
DTSTART;TZID=America/New_York:20230519T123000
DTEND;TZID=America/New_York:20230519T143000
DTSTAMP:20260421T203215
CREATED:20230421T193404Z
LAST-MODIFIED:20230510T125150Z
UID:343-1684499400-1684506600@ivonnezucco.com
SUMMARY:Transitioning from worker to manager. What you should know before you make the move
DESCRIPTION:Networking is a crucial aspect for high school students as it lays the foundation for future success. Beyond academic achievements\, building connections with peers\, teachers\, and professionals opens doors to valuable opportunities. Networking fosters the exchange of ideas\, knowledge\, and support\, enabling students to explore diverse career paths and gain insights into various industries. Establishing a robust network early on can lead to mentorship\, internships\, and a broader understanding of potential career trajectories. Moreover\, these connections often prove instrumental in navigating the transition from high school to college and beyond\, offering guidance and a supportive community. This workshop also empowers students to craft a compelling elevator pitch.								\n				\n					\n		\n					\n		\n				\n						\n					\n			\n						\n				\n					This event\, sponsored by the AVID program at The Greenwich Alliance for Education\, is PRIVATE.
URL:https://ivonnezucco.com/event/transitioning-from-worker-to-manager-what-you-should-know-before-you-make-the-move/
CATEGORIES:Non-Profit Capacity Building Workshops
END:VEVENT
BEGIN:VEVENT
DTSTART;TZID=America/New_York:20230428T083000
DTEND;TZID=America/New_York:20230428T103000
DTSTAMP:20260421T203215
CREATED:20230421T192227Z
LAST-MODIFIED:20230421T192528Z
UID:335-1682670600-1682677800@ivonnezucco.com
SUMMARY:Conflict management and effective communication at work
DESCRIPTION:Networking is a crucial aspect for high school students as it lays the foundation for future success. Beyond academic achievements\, building connections with peers\, teachers\, and professionals opens doors to valuable opportunities. Networking fosters the exchange of ideas\, knowledge\, and support\, enabling students to explore diverse career paths and gain insights into various industries. Establishing a robust network early on can lead to mentorship\, internships\, and a broader understanding of potential career trajectories. Moreover\, these connections often prove instrumental in navigating the transition from high school to college and beyond\, offering guidance and a supportive community. This workshop also empowers students to craft a compelling elevator pitch.								\n				\n					\n		\n					\n		\n				\n						\n					\n			\n						\n				\n					This event\, sponsored by the AVID program at The Greenwich Alliance for Education\, is PRIVATE.
URL:https://ivonnezucco.com/event/conflict-management-and-effective-communication-at-work/
CATEGORIES:Non-Profit Capacity Building Workshops
END:VEVENT
BEGIN:VEVENT
DTSTART;TZID=America/New_York:20230324T083000
DTEND;TZID=America/New_York:20230324T103000
DTSTAMP:20260421T203215
CREATED:20230421T191621Z
LAST-MODIFIED:20230421T191638Z
UID:332-1679646600-1679653800@ivonnezucco.com
SUMMARY:Building a better organizational culture. The importance of trust\, communication\, and alignment.
DESCRIPTION:Networking is a crucial aspect for high school students as it lays the foundation for future success. Beyond academic achievements\, building connections with peers\, teachers\, and professionals opens doors to valuable opportunities. Networking fosters the exchange of ideas\, knowledge\, and support\, enabling students to explore diverse career paths and gain insights into various industries. Establishing a robust network early on can lead to mentorship\, internships\, and a broader understanding of potential career trajectories. Moreover\, these connections often prove instrumental in navigating the transition from high school to college and beyond\, offering guidance and a supportive community. This workshop also empowers students to craft a compelling elevator pitch.								\n				\n					\n		\n					\n		\n				\n						\n					\n			\n						\n				\n					This event\, sponsored by the AVID program at The Greenwich Alliance for Education\, is PRIVATE.
URL:https://ivonnezucco.com/event/building-a-better-organizational-culture-the-importance-of-trust-communication-and-alignment/
CATEGORIES:Non-Profit Capacity Building Workshops
END:VEVENT
BEGIN:VEVENT
DTSTART;TZID=America/New_York:20230308T180000
DTEND;TZID=America/New_York:20230308T200000
DTSTAMP:20260421T203215
CREATED:20230421T191317Z
LAST-MODIFIED:20240103T205326Z
UID:315-1678298400-1678305600@ivonnezucco.com
SUMMARY:Networking for small businesses
DESCRIPTION:Networking is a crucial aspect for high school students as it lays the foundation for future success. Beyond academic achievements\, building connections with peers\, teachers\, and professionals opens doors to valuable opportunities. Networking fosters the exchange of ideas\, knowledge\, and support\, enabling students to explore diverse career paths and gain insights into various industries. Establishing a robust network early on can lead to mentorship\, internships\, and a broader understanding of potential career trajectories. Moreover\, these connections often prove instrumental in navigating the transition from high school to college and beyond\, offering guidance and a supportive community. This workshop also empowers students to craft a compelling elevator pitch.								\n				\n					\n		\n					\n		\n				\n						\n					\n			\n						\n				\n					This event\, sponsored by the AVID program at The Greenwich Alliance for Education\, is PRIVATE.
URL:https://ivonnezucco.com/event/networking-for-small-businesses/
CATEGORIES:Non-Profit Capacity Building Workshops
ATTACH;FMTTYPE=image/jpeg:https://ivonnezucco.com/wp-content/uploads/2023/04/networking.jpg
END:VEVENT
BEGIN:VEVENT
DTSTART;TZID=America/New_York:20230217T123000
DTEND;TZID=America/New_York:20230217T143000
DTSTAMP:20260421T203215
CREATED:20230421T190715Z
LAST-MODIFIED:20240103T204710Z
UID:316-1676637000-1676644200@ivonnezucco.com
SUMMARY:Self-care for helpers. Understand compassion fatigue\, vicarious trauma\, and the lead reasons for helpers’ burnout.
DESCRIPTION:Networking is a crucial aspect for high school students as it lays the foundation for future success. Beyond academic achievements\, building connections with peers\, teachers\, and professionals opens doors to valuable opportunities. Networking fosters the exchange of ideas\, knowledge\, and support\, enabling students to explore diverse career paths and gain insights into various industries. Establishing a robust network early on can lead to mentorship\, internships\, and a broader understanding of potential career trajectories. Moreover\, these connections often prove instrumental in navigating the transition from high school to college and beyond\, offering guidance and a supportive community. This workshop also empowers students to craft a compelling elevator pitch.								\n				\n					\n		\n					\n		\n				\n						\n					\n			\n						\n				\n					This event\, sponsored by the AVID program at The Greenwich Alliance for Education\, is PRIVATE.
URL:https://ivonnezucco.com/event/self-care-for-helpers-understand-compassion-fatigue-vicarious-trauma-and-the-lead-reasons-for-helpers-burnout/
CATEGORIES:Non-Profit Capacity Building Workshops
ATTACH;FMTTYPE=image/png:https://ivonnezucco.com/wp-content/uploads/2023/04/Self-care-image.png
END:VEVENT
BEGIN:VEVENT
DTSTART;TZID=America/New_York:20230120T123000
DTEND;TZID=America/New_York:20230120T143000
DTSTAMP:20260421T203215
CREATED:20230321T013014Z
LAST-MODIFIED:20240103T204845Z
UID:73-1674217800-1674225000@ivonnezucco.com
SUMMARY:A new approach to work in the new year: Managing stress and avoiding burnout by setting work boundaries.
DESCRIPTION:Networking is a crucial aspect for high school students as it lays the foundation for future success. Beyond academic achievements\, building connections with peers\, teachers\, and professionals opens doors to valuable opportunities. Networking fosters the exchange of ideas\, knowledge\, and support\, enabling students to explore diverse career paths and gain insights into various industries. Establishing a robust network early on can lead to mentorship\, internships\, and a broader understanding of potential career trajectories. Moreover\, these connections often prove instrumental in navigating the transition from high school to college and beyond\, offering guidance and a supportive community. This workshop also empowers students to craft a compelling elevator pitch.								\n				\n					\n		\n					\n		\n				\n						\n					\n			\n						\n				\n					This event\, sponsored by the AVID program at The Greenwich Alliance for Education\, is PRIVATE.
URL:https://ivonnezucco.com/event/a-new-approach-to-work-in-the-new-year/
CATEGORIES:Non-Profit Capacity Building Workshops
ATTACH;FMTTYPE=image/png:https://ivonnezucco.com/wp-content/uploads/2023/03/image.png
END:VEVENT
END:VCALENDAR