BEGIN:VCALENDAR
VERSION:2.0
PRODID:-//Ivonne Zucco - ECPv6.15.17//NONSGML v1.0//EN
CALSCALE:GREGORIAN
METHOD:PUBLISH
X-WR-CALNAME:Ivonne Zucco
X-ORIGINAL-URL:https://ivonnezucco.com
X-WR-CALDESC:Events for Ivonne Zucco
REFRESH-INTERVAL;VALUE=DURATION:PT1H
X-Robots-Tag:noindex
X-PUBLISHED-TTL:PT1H
BEGIN:VTIMEZONE
TZID:America/New_York
BEGIN:DAYLIGHT
TZOFFSETFROM:-0500
TZOFFSETTO:-0400
TZNAME:EDT
DTSTART:20220313T070000
END:DAYLIGHT
BEGIN:STANDARD
TZOFFSETFROM:-0400
TZOFFSETTO:-0500
TZNAME:EST
DTSTART:20221106T060000
END:STANDARD
BEGIN:DAYLIGHT
TZOFFSETFROM:-0500
TZOFFSETTO:-0400
TZNAME:EDT
DTSTART:20230312T070000
END:DAYLIGHT
BEGIN:STANDARD
TZOFFSETFROM:-0400
TZOFFSETTO:-0500
TZNAME:EST
DTSTART:20231105T060000
END:STANDARD
BEGIN:DAYLIGHT
TZOFFSETFROM:-0500
TZOFFSETTO:-0400
TZNAME:EDT
DTSTART:20240310T070000
END:DAYLIGHT
BEGIN:STANDARD
TZOFFSETFROM:-0400
TZOFFSETTO:-0500
TZNAME:EST
DTSTART:20241103T060000
END:STANDARD
END:VTIMEZONE
BEGIN:VEVENT
DTSTART;TZID=America/New_York:20230120T123000
DTEND;TZID=America/New_York:20230120T143000
DTSTAMP:20260422T010513
CREATED:20230321T013014Z
LAST-MODIFIED:20240103T204845Z
UID:73-1674217800-1674225000@ivonnezucco.com
SUMMARY:A new approach to work in the new year: Managing stress and avoiding burnout by setting work boundaries.
DESCRIPTION:Many people want to be their own boss to attain more flexibility. Yet as an entrepreneur\, you know that having your own business requires that you do it all and are plugged into work all the time. Staying motivated is not easy when there are so many responsibilities. Unless you can set boundaries and find time to rest\, relax and recharge\, managing your business will lead to burn-out that will overshadow your dreams. The number one misconception of “life-work” balance.Set up your schedule to allow for rest\, relax and recharge.The art of saying “no.”The first steps to put into practice your newfound boundaries.								\n				\n					\n		\n					\n		\n				\n						\n					\n			\n						\n				\n					Register Here
URL:https://ivonnezucco.com/event/a-new-approach-to-work-in-the-new-year/
CATEGORIES:Non-Profit Capacity Building Workshops
ATTACH;FMTTYPE=image/png:https://ivonnezucco.com/wp-content/uploads/2023/03/image.png
END:VEVENT
END:VCALENDAR