BEGIN:VCALENDAR
VERSION:2.0
PRODID:-//Ivonne Zucco - ECPv6.15.17//NONSGML v1.0//EN
CALSCALE:GREGORIAN
METHOD:PUBLISH
X-ORIGINAL-URL:https://ivonnezucco.com
X-WR-CALDESC:Events for Ivonne Zucco
REFRESH-INTERVAL;VALUE=DURATION:PT1H
X-Robots-Tag:noindex
X-PUBLISHED-TTL:PT1H
BEGIN:VTIMEZONE
TZID:America/New_York
BEGIN:DAYLIGHT
TZOFFSETFROM:-0500
TZOFFSETTO:-0400
TZNAME:EDT
DTSTART:20230312T070000
END:DAYLIGHT
BEGIN:STANDARD
TZOFFSETFROM:-0400
TZOFFSETTO:-0500
TZNAME:EST
DTSTART:20231105T060000
END:STANDARD
BEGIN:DAYLIGHT
TZOFFSETFROM:-0500
TZOFFSETTO:-0400
TZNAME:EDT
DTSTART:20240310T070000
END:DAYLIGHT
BEGIN:STANDARD
TZOFFSETFROM:-0400
TZOFFSETTO:-0500
TZNAME:EST
DTSTART:20241103T060000
END:STANDARD
BEGIN:DAYLIGHT
TZOFFSETFROM:-0500
TZOFFSETTO:-0400
TZNAME:EDT
DTSTART:20250309T070000
END:DAYLIGHT
BEGIN:STANDARD
TZOFFSETFROM:-0400
TZOFFSETTO:-0500
TZNAME:EST
DTSTART:20251102T060000
END:STANDARD
END:VTIMEZONE
BEGIN:VEVENT
DTSTART;TZID=America/New_York:20241119T123000
DTEND;TZID=America/New_York:20241119T140000
DTSTAMP:20260424T115545
CREATED:20240412T221344Z
LAST-MODIFIED:20240415T222937Z
UID:593-1732019400-1732024800@ivonnezucco.com
SUMMARY:Strategizing and executing effectively
DESCRIPTION:Networking is a crucial aspect for high school students as it lays the foundation for future success. Beyond academic achievements\, building connections with peers\, teachers\, and professionals opens doors to valuable opportunities. Networking fosters the exchange of ideas\, knowledge\, and support\, enabling students to explore diverse career paths and gain insights into various industries. Establishing a robust network early on can lead to mentorship\, internships\, and a broader understanding of potential career trajectories. Moreover\, these connections often prove instrumental in navigating the transition from high school to college and beyond\, offering guidance and a supportive community. This workshop also empowers students to craft a compelling elevator pitch.								\n				\n					\n		\n					\n		\n				\n						\n					\n			\n						\n				\n					This is a private event\, sponsored by the AVID Success program through The Greenwich Alliance for Education.
URL:https://ivonnezucco.com/event/strategizing-and-executing-effectively/
LOCATION:Norwalk ReDevelopment\, 3 Belden Avenue\, Norwalk\, CT\, 06850\, United States
ATTACH;FMTTYPE=image/jpeg:https://ivonnezucco.com/wp-content/uploads/2024/04/dylan-gillis-KdeqA3aTnBY-unsplash-scaled-e1713220035459.jpg
END:VEVENT
END:VCALENDAR